BEGIN:VCALENDAR
VERSION:2.0
PRODID:-//eventon.com NONSGML v1.0//EN
CALSCALE:GREGORIAN
METHOD:PUBLISH
BEGIN:VEVENT
UID:69e596464d3d4
DTSTAMP:20260420T025814Z
DTSTART:20260426T153000Z
DTEND:20260426T173000Z
LOCATION:Reigate Squash Club Manor Road\,  Reigate\,  RH2 9LA
SUMMARY:Fitness & Body Conditioning [Sun]
DESCRIPTION:An instructor-led fitness session focusing on activities to hel
 p improve your ability in squash or racketball. In a fun and relaxed atmosp
 here\,  we cover muscle strengthening exercises\,  balance\,  cardio\,  and
  on-court ghosting. All abilities welcome; sessions are £5. Please contact
  Sylvia (via Members’ Directory) to be added to the Whatsapp[..]\nhttps:/
 /reigatesquash.co.uk/events/squash-racketball-fitness/var/ri-1.l-L1
URL:https://reigatesquash.co.uk/events/squash-racketball-fitness/var/ri-1.l-L1
END:VEVENT
END:VCALENDAR